BEGIN:VCALENDAR
PRODID:-//AT Content Types//AT Event//EN
VERSION:1.0
BEGIN:VEVENT
DTSTART:20260126T093000Z
DTEND:20260128T093000Z
DCREATED:20251216T092717Z
UID:ATEvent-695c009586c04d35b8987b667e0d3a6f
SEQUENCE:0
LAST-MODIFIED:20251216T092808Z
SUMMARY:Réunion du Conseil Exécutif
DESCRIPTION:Le Nouveau Conseil Exécutif se réunira du 26 au 28 janvi
 er 2026 en visioconférence.
PRIORITY:3
TRANSP:0
END:VEVENT
END:VCALENDAR
