BEGIN:VCALENDAR
PRODID:-//AT Content Types//AT Event//EN
VERSION:2.0
METHOD:PUBLISH
BEGIN:VEVENT
DTSTAMP:20260423T122714Z
CREATED:20180918T085344Z
UID:ATEvent-dda4d76a9a374b03ba3b03bb503d92b4
LAST-MODIFIED:20180918T085347Z
SUMMARY:Visite pastorale à l'EEAM
DTSTART:20180921T070000Z
DTEND:20180923T170000Z
LOCATION:Rabat\, Maroc
CLASS:PUBLIC
END:VEVENT
END:VCALENDAR
