BEGIN:VCALENDAR
PRODID:-//AT Content Types//AT Event//EN
VERSION:2.0
METHOD:PUBLISH
BEGIN:VEVENT
DTSTAMP:20260424T053734Z
CREATED:20200219T113354Z
UID:ATEvent-7e1e861c4cb0436d93e4e64677843f3f
LAST-MODIFIED:20200219T115338Z
SUMMARY:Visite délégation auprés de l'ELCTG - Gambie
DTSTART:20200109T083500Z
DTEND:20200115T173500Z
LOCATION:Gambie
CATEGORIES:Gambie, visite aux églises
CLASS:PUBLIC
END:VEVENT
END:VCALENDAR
