BEGIN:VCALENDAR
PRODID:-//AT Content Types//AT Event//EN
VERSION:1.0
BEGIN:VEVENT
DTSTART:20181116T075500Z
DTEND:20181127T185500Z
DCREATED:20180918T085755Z
UID:ATEvent-3665e0b12c1c4fb5b3e24989b5a47b33
SEQUENCE:0
LAST-MODIFIED:20180918T085818Z
SUMMARY:Visite à l'Église Protestante de La Réunion
LOCATION:La Réunion
PRIORITY:3
TRANSP:0
END:VEVENT
END:VCALENDAR
