BEGIN:VCALENDAR
PRODID:-//AT Content Types//AT Event//EN
VERSION:2.0
METHOD:PUBLISH
BEGIN:VEVENT
DTSTAMP:20260423T104621Z
CREATED:20180918T090005Z
UID:ATEvent-ef95714dad284d6e9ac507f713a01c01
LAST-MODIFIED:20180918T090010Z
SUMMARY:Visite à l'Église Presbytérienne de l'Ile Maurice
DTSTART:20181116T075500Z
DTEND:20181127T185500Z
LOCATION:Ile Maurice
CLASS:PUBLIC
END:VEVENT
END:VCALENDAR
