BEGIN:VCALENDAR
PRODID:-//AT Content Types//AT Event//EN
VERSION:2.0
METHOD:PUBLISH
BEGIN:VEVENT
DTSTAMP:20260424T073025Z
CREATED:20180524T141454Z
UID:ATEvent-79c6d1406ccb43418ecba8bbc3093a22
LAST-MODIFIED:20180524T141505Z
SUMMARY:Visite à l'École Pastorale Béthanie
DTSTART:20180602T070000Z
DTEND:20180609T160000Z
LOCATION:Nouvelle-Calédonie
CLASS:PUBLIC
END:VEVENT
END:VCALENDAR
