BEGIN:VCALENDAR
PRODID:-//AT Content Types//AT Event//EN
VERSION:2.0
METHOD:PUBLISH
BEGIN:VEVENT
DTSTAMP:20260423T183156Z
CREATED:20241031T110933Z
UID:ATEvent-690e566086b049a3a301f97d5b0264f5
LAST-MODIFIED:20241031T114934Z
SUMMARY:Visite à la CMER
DTSTART:20241125T071000Z
DTEND:20241126T180000Z
LOCATION:Hanovre\, Allemagne
CLASS:PUBLIC
END:VEVENT
END:VCALENDAR
