BEGIN:VCALENDAR
PRODID:-//AT Content Types//AT Event//EN
VERSION:1.0
BEGIN:VEVENT
DTSTART:20240531T220000Z
DTEND:20240601T220000Z
DCREATED:20240522T094148Z
UID:ATEvent-2970fa1387204fbfae59b549546f9f6d
SEQUENCE:0
LAST-MODIFIED:20240522T094200Z
SUMMARY:Synode UNEPREF
LOCATION:Nîmes
PRIORITY:3
TRANSP:0
END:VEVENT
END:VCALENDAR
