BEGIN:VCALENDAR
PRODID:-//AT Content Types//AT Event//EN
VERSION:2.0
METHOD:PUBLISH
BEGIN:VEVENT
DTSTAMP:20260423T104521Z
CREATED:20241031T110619Z
UID:ATEvent-679fe6350deb49d5a672bdfa7e19c184
LAST-MODIFIED:20241031T114907Z
SUMMARY:Synode régional EPUdF Rhône-Alpes
DTSTART:20241122T070000Z
DTEND:20241124T180000Z
LOCATION:Voguë\, Ardèche
CLASS:PUBLIC
END:VEVENT
END:VCALENDAR
