BEGIN:VCALENDAR
PRODID:-//AT Content Types//AT Event//EN
VERSION:1.0
BEGIN:VEVENT
DTSTART:20180608T070000Z
DTEND:20180609T160000Z
DCREATED:20180524T141240Z
UID:ATEvent-41c79e641fae474eb9ec571c90181007
SEQUENCE:0
LAST-MODIFIED:20180524T141258Z
SUMMARY:Synode Missionnaire DM-échange et mission
LOCATION:Sornetan\, Suisse
PRIORITY:3
TRANSP:0
END:VEVENT
END:VCALENDAR
