BEGIN:VCALENDAR
PRODID:-//AT Content Types//AT Event//EN
VERSION:1.0
BEGIN:VEVENT
DTSTART:20180525T070000Z
DTEND:20180527T160000Z
DCREATED:20180524T140649Z
UID:ATEvent-d819eacb97e04adca67a22317b337183
SEQUENCE:0
LAST-MODIFIED:20180524T140659Z
SUMMARY:Synode de l'UNEPREF
DESCRIPTION:Synode de lâ€™Union Nationale des Ã‰glises Protestantes RÃ
 ©formÃ©es Ã‰vangÃ©liques de France.
LOCATION:Ganges\, HÃ©rault
PRIORITY:3
TRANSP:0
END:VEVENT
END:VCALENDAR
