BEGIN:VCALENDAR
PRODID:-//AT Content Types//AT Event//EN
VERSION:2.0
METHOD:PUBLISH
BEGIN:VEVENT
DTSTAMP:20260423T215513Z
CREATED:20200219T114155Z
UID:ATEvent-0eefb190b0f64b219c77a908f232b3a8
LAST-MODIFIED:20200219T114200Z
SUMMARY:Synode de l'EPMB
DTSTART:20200214T090000Z
DTEND:20200226T154000Z
LOCATION:Cotonou - Bénin
CATEGORIES:synode, EPMB, bénin
CLASS:PUBLIC
END:VEVENT
END:VCALENDAR
