BEGIN:VCALENDAR
PRODID:-//AT Content Types//AT Event//EN
VERSION:2.0
METHOD:PUBLISH
BEGIN:VEVENT
DTSTAMP:20260423T080158Z
CREATED:20190625T171249Z
UID:ATEvent-eb0f4f43902b40eca30db95b0eca7445
LAST-MODIFIED:20190625T171253Z
SUMMARY:Synode de l'EP Māòhi\, Moorea\, Polynésie Française
DTSTART:20190718T060000Z
DTEND:20190731T200000Z
DESCRIPTION:Le Secrétaire général de la Cevaa\, Célestin Kiki\, re
 présentera la Communauté d'Églises en mission au Synode de l'EP Mā
 òhi\, qui se tient à Moorea du 18 au 31 juillet 2019.
CLASS:PUBLIC
END:VEVENT
END:VCALENDAR
