BEGIN:VCALENDAR
PRODID:-//AT Content Types//AT Event//EN
VERSION:1.0
BEGIN:VEVENT
DTSTART:20190826T062000Z
DTEND:20190830T172000Z
DCREATED:20190625T172115Z
UID:ATEvent-e6008c37574946a0bc6af978a066b686
SEQUENCE:0
LAST-MODIFIED:20190625T172119Z
SUMMARY:Synode de la CEVI
DESCRIPTION:Le Secrétaire général de la Cevaa\, Célestin Kiki\, re
 présentera la Communauté d'Églises en mission au Synode de la CEVI 
 (Chiesa Evangelica Valdese de Italia\, l'Église vaudoise d'Italie)\, 
 qui se tient à Torre Pellice du 26 au 30 août 2019.
LOCATION:Torre Pellice\, Italie
PRIORITY:3
TRANSP:0
END:VEVENT
END:VCALENDAR
