BEGIN:VCALENDAR
PRODID:-//AT Content Types//AT Event//EN
VERSION:2.0
METHOD:PUBLISH
BEGIN:VEVENT
DTSTAMP:20260423T212235Z
CREATED:20190625T171154Z
UID:ATEvent-d7483f504a584b98923e722292078358
LAST-MODIFIED:20190625T171157Z
SUMMARY:SÃ©minaire rÃ©gional Jeunesse + visite Ã  l'IEVRP\, Uruguay
DTSTART:20190704T060000Z
DTEND:20190711T210000Z
DESCRIPTION:Du 4 au 11 juillet 2019 a lieu un sÃ©minaire organisÃ© par
  l'IEVRP (Iglesia EvangÃ©lica Valdense del Rio de la Plata) Ã  Montevi
 deo sur le thÃ¨me Â«ThÃ©ologie et Ã©cologie : gestion de la crÃ©ationÂ
 »\, et parrainÃ© par la CommunautÃ© d'Ã‰glises en mission\, avec la pr
 Ã©sence du SecrÃ©taire gÃ©nÃ©ral et du ChargÃ© de mission Jeunesse de 
 la Cevaa.
CLASS:PUBLIC
END:VEVENT
END:VCALENDAR
