BEGIN:VCALENDAR
PRODID:-//AT Content Types//AT Event//EN
VERSION:1.0
BEGIN:VEVENT
DTSTART:20240922T220000Z
DTEND:20240926T220000Z
DCREATED:20240829T121234Z
UID:ATEvent-59463a3e40b14625bf87f96b6b53bba6
SEQUENCE:0
LAST-MODIFIED:20240829T121238Z
SUMMARY:Séminaire régional Action Commune - Madagascar
LOCATION:Madagascar
PRIORITY:3
TRANSP:0
END:VEVENT
END:VCALENDAR
