BEGIN:VCALENDAR
PRODID:-//AT Content Types//AT Event//EN
VERSION:2.0
METHOD:PUBLISH
BEGIN:VEVENT
DTSTAMP:20260423T122811Z
CREATED:20180524T141647Z
UID:ATEvent-46a2dfa9c0cd42929353480cff0ce47c
LAST-MODIFIED:20180524T141658Z
SUMMARY:Séminaire bilan Action Commune
DTSTART:20180624T070000Z
DTEND:20180630T160000Z
LOCATION:Kibuyé\, Rwanda
CLASS:PUBLIC
END:VEVENT
END:VCALENDAR
