BEGIN:VCALENDAR
PRODID:-//AT Content Types//AT Event//EN
VERSION:1.0
BEGIN:VEVENT
DTSTART:20171109T080000Z
DTEND:20171127T170000Z
DCREATED:20171002T142456Z
UID:ATEvent-33f90c2c080441f99f1d44a6b66a391f
SEQUENCE:0
LAST-MODIFIED:20171005T152633Z
SUMMARY:Séminaire AEBA
LOCATION:Île Maurice
PRIORITY:3
TRANSP:0
END:VEVENT
END:VCALENDAR
