BEGIN:VCALENDAR
PRODID:-//AT Content Types//AT Event//EN
VERSION:1.0
BEGIN:VEVENT
DTSTART:20200503T060000Z
DTEND:20200517T160000Z
DCREATED:20200219T155314Z
UID:ATEvent-4305b8eb48f2454997372e2e57c60e8f
SEQUENCE:0
LAST-MODIFIED:20200403T110044Z
SUMMARY:Séminaire AEBA Afrique Centrale : reporté à une date ultérieure à déterminer
DESCRIPTION:Reporté à une date ultérieure à déterminer
LOCATION:Yaoundé - Cameroun
PRIORITY:3
TRANSP:0
END:VEVENT
END:VCALENDAR
