BEGIN:VCALENDAR
PRODID:-//AT Content Types//AT Event//EN
VERSION:2.0
METHOD:PUBLISH
BEGIN:VEVENT
DTSTAMP:20260423T060214Z
CREATED:20180918T090125Z
UID:ATEvent-f6d322001b484a90b3f376f39af1e5e9
LAST-MODIFIED:20180918T090128Z
SUMMARY:Séminaire AEBA Afrique Australe & Océan Indien\, troisième session
DTSTART:20181112T070000Z
DTEND:20181127T180000Z
LOCATION:Ile Maurice
CLASS:PUBLIC
END:VEVENT
END:VCALENDAR
