BEGIN:VCALENDAR
PRODID:-//AT Content Types//AT Event//EN
VERSION:1.0
BEGIN:VEVENT
DTSTART:20240609T220000Z
DTEND:20240613T220000Z
DCREATED:20240614T121255Z
UID:ATEvent-2bb1b445540241e98c892b33184659c2
SEQUENCE:0
LAST-MODIFIED:20240614T121300Z
SUMMARY:Séminaire Action Commune
LOCATION:Kpalimé\, Togo
PRIORITY:3
TRANSP:0
END:VEVENT
END:VCALENDAR
