BEGIN:VCALENDAR
PRODID:-//AT Content Types//AT Event//EN
VERSION:1.0
BEGIN:VEVENT
DTSTART:20190209T070000Z
DTEND:20190209T180000Z
DCREATED:20190128T105308Z
UID:ATEvent-6a97584bc93c4b7f9dc77d62d06fa4bd
SEQUENCE:0
LAST-MODIFIED:20190128T105310Z
SUMMARY:Réunion du Bureau
LOCATION:Montpellier\, France
PRIORITY:3
TRANSP:0
END:VEVENT
END:VCALENDAR
