BEGIN:VCALENDAR
PRODID:-//AT Content Types//AT Event//EN
VERSION:1.0
BEGIN:VEVENT
DTSTART:20180120T070000Z
DTEND:20180128T070000Z
DCREATED:20171219T131151Z
UID:ATEvent-a2609ba564cf47a4a3e574054a854339
SEQUENCE:0
LAST-MODIFIED:20171219T131629Z
SUMMARY:Réunion des coordinations de la Cevaa
LOCATION:Libreville\, Gabon
PRIORITY:3
TRANSP:0
END:VEVENT
END:VCALENDAR
