BEGIN:VCALENDAR
PRODID:-//AT Content Types//AT Event//EN
VERSION:1.0
BEGIN:VEVENT
DTSTART:20190128T070000Z
DTEND:20190203T180000Z
DCREATED:20190128T105127Z
UID:ATEvent-545c2f17474944a4998ad6fc4ac34be7
SEQUENCE:0
LAST-MODIFIED:20190128T105131Z
SUMMARY:Réunion des coordinations de la Cevaa
DESCRIPTION:Former\, éduquer\, échanger entre Églises\, soutenir le
 s personnes âgées\, aider à construire ou à équiper des bâtiment
 s médicaux : telles sont les finalités de quelques-uns des nouveaux 
 projets soumis en cette année 2019 aux Coordinations de la Cevaa\, qu
 i se réunissent du 28 janvier au 3 février à Florence\, en Italie. 
 Une semaine de réflexions\, d'échanges et de dossiers à étudier\, 
 cruciale pour les activités à venir du pôle Animations et du pôle 
 Projets et échange de personnes. L'occasion\, aussi\, d'aller à la r
 encontre de l'Église d'accueil : l'Église vaudoise d'Italie.
LOCATION:Florence\, Italie
PRIORITY:3
TRANSP:0
END:VEVENT
END:VCALENDAR
