BEGIN:VCALENDAR
PRODID:-//AT Content Types//AT Event//EN
VERSION:2.0
METHOD:PUBLISH
BEGIN:VEVENT
DTSTAMP:20260423T110810Z
CREATED:20180524T140915Z
UID:ATEvent-304d772d13bc401899322ad8ede77376
LAST-MODIFIED:20180524T140925Z
SUMMARY:Rencontre multilatérale EPRw
DTSTART:20180528T070000Z
DTEND:20180531T160000Z
LOCATION:Wuppertal\, Allemagne
CLASS:PUBLIC
END:VEVENT
END:VCALENDAR
