BEGIN:VCALENDAR
PRODID:-//AT Content Types//AT Event//EN
VERSION:2.0
METHOD:PUBLISH
BEGIN:VEVENT
DTSTAMP:20260423T202243Z
CREATED:20230323T202937Z
UID:ATEvent-e905e72112fb4ff0b6d4c300ebaf5890
LAST-MODIFIED:20230323T203001Z
SUMMARY:Rencontre multilatérale Rwanda
DTSTART:20230424T083000Z
DTEND:20230426T153000Z
LOCATION:Wuppertal\, Allemagne
CLASS:PUBLIC
END:VEVENT
END:VCALENDAR
