BEGIN:VCALENDAR
PRODID:-//AT Content Types//AT Event//EN
VERSION:2.0
METHOD:PUBLISH
BEGIN:VEVENT
DTSTAMP:20260423T115059Z
CREATED:20240829T120946Z
UID:ATEvent-6ab18fd5788a44b290fdcd6490e00902
LAST-MODIFIED:20240829T121326Z
SUMMARY:Rencontre du Bureau du Conseil et du Secrétariat à Montpellier
DTSTART:20240902T220000Z
DTEND:20240905T220000Z
LOCATION:Montpellier
CLASS:PUBLIC
END:VEVENT
END:VCALENDAR
