BEGIN:VCALENDAR
PRODID:-//AT Content Types//AT Event//EN
VERSION:2.0
METHOD:PUBLISH
BEGIN:VEVENT
DTSTAMP:20260423T123223Z
CREATED:20190926T151530Z
UID:ATEvent-f525662fcadf47e583ca5de04e53e79e
LAST-MODIFIED:20190926T151535Z
SUMMARY:Rencontre des SG Cevaa-CWM-VEM-WACC-WCRC
DTSTART:20191201T081500Z
DTEND:20191204T191500Z
LOCATION:Montpellier\, France
CLASS:PUBLIC
END:VEVENT
END:VCALENDAR
