BEGIN:VCALENDAR
PRODID:-//AT Content Types//AT Event//EN
VERSION:2.0
METHOD:PUBLISH
BEGIN:VEVENT
DTSTAMP:20260424T012024Z
CREATED:20231128T173216Z
UID:ATEvent-e192adfc3ba143d9bc6db8cc76154c33
LAST-MODIFIED:20231129T092919Z
SUMMARY:Rencontre des 3 Secrétaires Généraux VEM – CWM – Cevaa à Kassel
DTSTART:20231205T230000Z
DTEND:20231208T230000Z
LOCATION:Kassel (Allemagne)
CATEGORIES:Allemagne, VEM, CWM
CLASS:PUBLIC
END:VEVENT
END:VCALENDAR
