BEGIN:VCALENDAR
PRODID:-//AT Content Types//AT Event//EN
VERSION:2.0
METHOD:PUBLISH
BEGIN:VEVENT
DTSTAMP:20260424T034148Z
CREATED:20250506T150843Z
UID:ATEvent-dd237d9b02db4bd0adc53f565960bc8f
LAST-MODIFIED:20250506T150907Z
SUMMARY:Rencontre annuelle entre les Secrétariats de la Cevaa\, de DM et du Défap
DTSTART:20250513T061000Z
DTEND:20250515T171000Z
LOCATION:Pomeyrol
CLASS:PUBLIC
END:VEVENT
END:VCALENDAR
