BEGIN:VCALENDAR
PRODID:-//AT Content Types//AT Event//EN
VERSION:2.0
METHOD:PUBLISH
BEGIN:VEVENT
DTSTAMP:20260423T104639Z
CREATED:20240513T102531Z
UID:ATEvent-ac41530f50d241abbd6b7dd834d8f558
LAST-MODIFIED:20240513T131544Z
SUMMARY:Rencontre 3-Secrétariats DM-Défap-Cevaa
DTSTART:20240514T220000Z
DTEND:20240516T220000Z
LOCATION:Bex\, Suisse
CLASS:PUBLIC
END:VEVENT
END:VCALENDAR
