BEGIN:VCALENDAR
PRODID:-//AT Content Types//AT Event//EN
VERSION:2.0
METHOD:PUBLISH
BEGIN:VEVENT
DTSTAMP:20260424T030215Z
CREATED:20230323T203342Z
UID:ATEvent-700fbda0c0c740698eaa560f1ecac694
LAST-MODIFIED:20230323T203354Z
SUMMARY:Rencontre 3-Secrétariats Défap-DM-Cevaa
DTSTART:20230503T083500Z
DTEND:20230505T153500Z
LOCATION:Paris
CLASS:PUBLIC
END:VEVENT
END:VCALENDAR
