BEGIN:VCALENDAR
PRODID:-//AT Content Types//AT Event//EN
VERSION:2.0
METHOD:PUBLISH
BEGIN:VEVENT
DTSTAMP:20260425T105518Z
CREATED:20230323T203551Z
UID:ATEvent-fa04a492e0024aa2be3724797e9f1adf
LAST-MODIFIED:20230323T203607Z
SUMMARY:PSS - Mission à l'hôpital Kirinda
DTSTART:20230412T083500Z
DTEND:20230417T163500Z
LOCATION:Kirinda\, Rwanda
CLASS:PUBLIC
END:VEVENT
END:VCALENDAR
