BEGIN:VCALENDAR
PRODID:-//AT Content Types//AT Event//EN
VERSION:2.0
METHOD:PUBLISH
BEGIN:VEVENT
DTSTAMP:20260423T183241Z
CREATED:20171002T141608Z
UID:ATEvent-ea8b41a9ffd04e1fa1ac985f46e2a7ef
LAST-MODIFIED:20171002T141611Z
SUMMARY:Protestants en Fête
DTSTART:20171027T070000Z
DTEND:20171029T170000Z
LOCATION:Strasbourg\, France
CLASS:PUBLIC
END:VEVENT
END:VCALENDAR
