BEGIN:VCALENDAR
PRODID:-//AT Content Types//AT Event//EN
VERSION:1.0
BEGIN:VEVENT
DTSTART:20190711T060000Z
DTEND:20190718T210000Z
DCREATED:20190625T171838Z
UID:ATEvent-f6d603773a1d4921866ab5d33a803e24
SEQUENCE:0
LAST-MODIFIED:20190625T171919Z
SUMMARY:Projet régional formation Jeunesse
LOCATION:Kpalimé\, Togo
PRIORITY:3
TRANSP:0
END:VEVENT
END:VCALENDAR
