BEGIN:VCALENDAR
PRODID:-//AT Content Types//AT Event//EN
VERSION:1.0
BEGIN:VEVENT
DTSTART:20190306T070000Z
DTEND:20190316T180000Z
DCREATED:20190128T105643Z
UID:ATEvent-a54ab238511c4c02b2fc9860e10e15e7
SEQUENCE:0
LAST-MODIFIED:20190128T105831Z
SUMMARY:Participation au synode de l'Église Protestante du Sénégal
LOCATION:Dakar\, Sénégal
PRIORITY:3
TRANSP:0
END:VEVENT
END:VCALENDAR
