BEGIN:VCALENDAR
PRODID:-//AT Content Types//AT Event//EN
VERSION:1.0
BEGIN:VEVENT
DTSTART:20190306T070000Z
DTEND:20190316T180000Z
DCREATED:20190128T105802Z
UID:ATEvent-583f97d16bbf444eb71198eea6db4f42
SEQUENCE:0
LAST-MODIFIED:20190128T105805Z
SUMMARY:Participation au synode de l'Église Luthérienne du Sénégal
LOCATION:Fatick\, Sénégal
PRIORITY:3
TRANSP:0
END:VEVENT
END:VCALENDAR
