BEGIN:VCALENDAR
PRODID:-//AT Content Types//AT Event//EN
VERSION:2.0
METHOD:PUBLISH
BEGIN:VEVENT
DTSTAMP:20260423T103935Z
CREATED:20230323T203108Z
UID:ATEvent-65e3aea5417f4405a0bf72731a334125
LAST-MODIFIED:20230323T203125Z
SUMMARY:NDM-Mission de Brême
DTSTART:20230428T063000Z
DTEND:20230428T163000Z
LOCATION:Brême - Allemagne
CLASS:PUBLIC
END:VEVENT
END:VCALENDAR
