BEGIN:VCALENDAR
PRODID:-//AT Content Types//AT Event//EN
VERSION:1.0
BEGIN:VEVENT
DTSTART:20240512T220000Z
DTEND:20240513T220000Z
DCREATED:20240513T102416Z
UID:ATEvent-53f06e011851419ba8a119dfe80471e7
SEQUENCE:0
LAST-MODIFIED:20240513T131557Z
SUMMARY:Multilatérale Rwanda
LOCATION:Utrecht\, Pays-Bas
PRIORITY:3
TRANSP:0
END:VEVENT
END:VCALENDAR
