BEGIN:VCALENDAR
PRODID:-//AT Content Types//AT Event//EN
VERSION:2.0
METHOD:PUBLISH
BEGIN:VEVENT
DTSTAMP:20260423T103558Z
CREATED:20220325T110459Z
UID:ATEvent-ae99b7f8c93f4cfa8cd507272e815df4
LAST-MODIFIED:20220429T141044Z
SUMMARY:Mission UEBC\, EECa
DTSTART:20220425T060000Z
DTEND:20220430T160000Z
LOCATION:Yaoundé-Douala\, Cameroun
CLASS:PUBLIC
END:VEVENT
END:VCALENDAR
