BEGIN:VCALENDAR
PRODID:-//AT Content Types//AT Event//EN
VERSION:1.0
BEGIN:VEVENT
DTSTART:20240723T220000Z
DTEND:20240728T220000Z
DCREATED:20240718T102338Z
UID:ATEvent-5cebf5ca575d43848200e70cd24de416
SEQUENCE:0
LAST-MODIFIED:20240718T102343Z
SUMMARY:Mission Lesotho : Rencontre LECSA\, visite projets Eglise et Hôpital
PRIORITY:3
TRANSP:0
END:VEVENT
END:VCALENDAR
