BEGIN:VCALENDAR
PRODID:-//AT Content Types//AT Event//EN
VERSION:1.0
BEGIN:VEVENT
DTSTART:20200209T073000Z
DTEND:20200225T173000Z
DCREATED:20200219T125150Z
UID:ATEvent-2d61f2865de54ee0827333c97de2de58
SEQUENCE:0
LAST-MODIFIED:20200219T125222Z
SUMMARY:Mission enseignement UPAC
LOCATION:Yaoundé - Cameroun
PRIORITY:3
TRANSP:0
END:VEVENT
END:VCALENDAR
