BEGIN:VCALENDAR
PRODID:-//AT Content Types//AT Event//EN
VERSION:2.0
METHOD:PUBLISH
BEGIN:VEVENT
DTSTAMP:20260423T075823Z
CREATED:20250506T150639Z
UID:ATEvent-62a6b08cf13a4e999b57de7f2aa4de5a
LAST-MODIFIED:20250506T150648Z
SUMMARY:Mission du pasteur Omer Dagan
DTSTART:20250503T060500Z
DTEND:20250512T170500Z
LOCATION:Cameroun
CLASS:PUBLIC
END:VEVENT
END:VCALENDAR
