BEGIN:VCALENDAR
PRODID:-//AT Content Types//AT Event//EN
VERSION:1.0
BEGIN:VEVENT
DTSTART:20250601T060000Z
DTEND:20250612T170000Z
DCREATED:20250519T135753Z
UID:ATEvent-409896e3ec32450d97dd8d9f87b54386
SEQUENCE:0
LAST-MODIFIED:20250603T083317Z
SUMMARY:Mission de suivi d’Ebenezer Agordome au Maroc et au Rwanda
PRIORITY:3
TRANSP:0
END:VEVENT
END:VCALENDAR
