BEGIN:VCALENDAR
PRODID:-//AT Content Types//AT Event//EN
VERSION:2.0
METHOD:PUBLISH
BEGIN:VEVENT
DTSTAMP:20260423T142800Z
CREATED:20250701T075910Z
UID:ATEvent-87daa81e22fb40dda887daeda967e8d1
LAST-MODIFIED:20250701T075917Z
SUMMARY:Mission au Sénégal et en Gambie dans le cadre du Programme Solidarité
DTSTART:20250721T070000Z
DTEND:20250730T170000Z
CLASS:PUBLIC
END:VEVENT
END:VCALENDAR
