BEGIN:VCALENDAR
PRODID:-//AT Content Types//AT Event//EN
VERSION:2.0
METHOD:PUBLISH
BEGIN:VEVENT
DTSTAMP:20260423T122803Z
CREATED:20230318T182952Z
UID:ATEvent-6c88f750079246b69e204ae15accc7ad
LAST-MODIFIED:20230318T183733Z
SUMMARY:Inauguration - PSS
DTSTART:20230313T093000Z
DTEND:20230319T163000Z
LOCATION:Garoua Boulaï - Cameroun
CLASS:PUBLIC
END:VEVENT
END:VCALENDAR
