BEGIN:VCALENDAR
PRODID:-//AT Content Types//AT Event//EN
VERSION:2.0
METHOD:PUBLISH
BEGIN:VEVENT
DTSTAMP:20260423T060045Z
CREATED:20171002T141643Z
UID:ATEvent-cb7ba8a1967e47769eceed00bb06cc47
LAST-MODIFIED:20171005T094527Z
SUMMARY:Festival Jeunesse : 500 ans de la Réforme
DTSTART:20171027T070000Z
DTEND:20171107T170000Z
LOCATION:Genève\, Suisse
URL:http://www.cevaa.org/actualites/jeunesse-la-cevaa-a-geneve-pour-le-festival-reformaction
CLASS:PUBLIC
END:VEVENT
END:VCALENDAR
