BEGIN:VCALENDAR
PRODID:-//AT Content Types//AT Event//EN
VERSION:1.0
BEGIN:VEVENT
DTSTART:20230125T080000Z
DTEND:20230128T170000Z
DCREATED:20221217T165746Z
UID:ATEvent-e77902add2ba44dab6762395b85e21f6
SEQUENCE:0
LAST-MODIFIED:20230118T211015Z
SUMMARY:Les Coordinations de la Cevaa
LOCATION:Saly (Sénégal)
PRIORITY:3
TRANSP:0
END:VEVENT
END:VCALENDAR
