BEGIN:VCALENDAR
PRODID:-//AT Content Types//AT Event//EN
VERSION:1.0
BEGIN:VEVENT
DTSTART:20240907T220000Z
DTEND:20240907T220000Z
DCREATED:20240829T121112Z
UID:ATEvent-a980b526ce2447c3a0665eb6ba520760
SEQUENCE:0
LAST-MODIFIED:20240829T121118Z
SUMMARY:Culte d’installation de la nouvelle Présidente de l’EPCAAL à Strasbourg
LOCATION:Strasbourg
PRIORITY:3
TRANSP:0
END:VEVENT
END:VCALENDAR
