BEGIN:VCALENDAR
PRODID:-//AT Content Types//AT Event//EN
VERSION:2.0
METHOD:PUBLISH
BEGIN:VEVENT
DTSTAMP:20260423T115430Z
CREATED:20200219T113812Z
UID:ATEvent-0dce4d6d317e4b63a2c18362ac9f3779
LAST-MODIFIED:20200219T114457Z
SUMMARY:Coordinations à Jacqueville - Côte d'Ivoire
DTSTART:20200124T083500Z
DTEND:20200202T153500Z
LOCATION:Côte d'Ivoire
CATEGORIES:cote ivoire, jeunesse, coordination projets, coordination animations
CLASS:PUBLIC
END:VEVENT
END:VCALENDAR
